BEGIN:VCALENDAR
VERSION:2.0
PRODID:-//Loudoun County Economic Development, VA - ECPv6.11.2.1//NONSGML v1.0//EN
CALSCALE:GREGORIAN
METHOD:PUBLISH
X-ORIGINAL-URL:https://biz.loudoun.gov
X-WR-CALDESC:Events for Loudoun County Economic Development, VA
REFRESH-INTERVAL;VALUE=DURATION:PT1H
X-Robots-Tag:noindex
X-PUBLISHED-TTL:PT1H
BEGIN:VTIMEZONE
TZID:America/New_York
BEGIN:DAYLIGHT
TZOFFSETFROM:-0500
TZOFFSETTO:-0400
TZNAME:EDT
DTSTART:20220313T070000
END:DAYLIGHT
BEGIN:STANDARD
TZOFFSETFROM:-0400
TZOFFSETTO:-0500
TZNAME:EST
DTSTART:20221106T060000
END:STANDARD
END:VTIMEZONE
BEGIN:VEVENT
DTSTART;TZID=America/New_York:20220310T120000
DTEND;TZID=America/New_York:20220310T130000
DTSTAMP:20260423T105533
CREATED:20220226T051512Z
LAST-MODIFIED:20220226T051512Z
UID:20479-1646913600-1646917200@biz.loudoun.gov
SUMMARY:Free Event:  Why Cloud?  The Talent You Need for Transformation (presented by UVA SCPS Northern Virginia)
DESCRIPTION:Why Cloud? The global cloud computing market is growing quickly and exponentially. According to LinkedIn\, cloud computing is the #1 complex skill companies need most. Join UVA SCPS at a virtual thought leader event on March 10th to be a part of the conversation. \nhttps://www.scps.virginia.edu/why-cloud
URL:https://biz.loudoun.gov/event/free-event-why-cloud-the-talent-you-need-for-transformation-presented-by-uva-scps-northern-virginia/
LOCATION:Online\, Online
CATEGORIES:Webinars
ORGANIZER;CN="University of Virginia School of Continuing and Professional Studies":MAILTO:ls3k@virginia.edu
END:VEVENT
END:VCALENDAR