BEGIN:VCALENDAR
VERSION:2.0
PRODID:-//Loudoun County Economic Development, VA - ECPv6.11.2.1//NONSGML v1.0//EN
CALSCALE:GREGORIAN
METHOD:PUBLISH
X-ORIGINAL-URL:https://biz.loudoun.gov
X-WR-CALDESC:Events for Loudoun County Economic Development, VA
REFRESH-INTERVAL;VALUE=DURATION:PT1H
X-Robots-Tag:noindex
X-PUBLISHED-TTL:PT1H
BEGIN:VTIMEZONE
TZID:America/New_York
BEGIN:DAYLIGHT
TZOFFSETFROM:-0500
TZOFFSETTO:-0400
TZNAME:EDT
DTSTART:20220313T070000
END:DAYLIGHT
BEGIN:STANDARD
TZOFFSETFROM:-0400
TZOFFSETTO:-0500
TZNAME:EST
DTSTART:20221106T060000
END:STANDARD
END:VTIMEZONE
BEGIN:VEVENT
DTSTART;TZID=America/New_York:20220310T100000
DTEND;TZID=America/New_York:20220310T130000
DTSTAMP:20260423T082959
CREATED:20220304T220040Z
LAST-MODIFIED:20220304T220040Z
UID:20579-1646906400-1646917200@biz.loudoun.gov
SUMMARY:Customer Sales Associate Open House
DESCRIPTION:Hiring for positions in Loudoun County including One Loudoun\, Ashburn\, Purcellville and Leesburg \nOur Customer Sales Associates are a vital part of the Flagship Carwash experience! Customer Sales Associates are responsible for greeting customers\, accurately ringing in customer sales\, providing excellent customer service\, and maintaining lobby area as well as membership sales. You’ll provide incredible customer service by engaging customers in friendly conversation\, and accurately completing monetary transactions while signing up customers for monthly memberships and generating commissions!! Our Customer Sales Associates leave a lasting impression and transform first-time customers into repeat Flagship customers! \nWe are looking for friendly\, engaging\, people who positively influence the people around them and who will provide a great customer experience.\nIf you’re looking for a fast-paced environment with a great team and even better customers where you can determine your income and also have a career path into other positions including management\, grab the checkered flag and come GROW with us! \nWhat will I do?\n• Engage customers in friendly conversation while making eye contact and smiling\n• Accurately and efficiently explain different services and packages along with completing monetary transactions\n• Proactively offer additional assistance or services and thank the customer for coming to Flagship\n• Assist customers with requests on site and on the phone\n• Demonstrate knowledge of products and services to customers
URL:https://biz.loudoun.gov/event/customer-sales-associate-open-house/
LOCATION:Flagship Carwash\, 950 Herndon Pkwy Suite 400\, Herndon\, VA\, 20147
CATEGORIES:Workforce Development,For Employees/Jobseekers
END:VEVENT
END:VCALENDAR