BEGIN:VCALENDAR
VERSION:2.0
PRODID:-//Loudoun County Economic Development, VA - ECPv6.11.2.1//NONSGML v1.0//EN
CALSCALE:GREGORIAN
METHOD:PUBLISH
X-ORIGINAL-URL:https://biz.loudoun.gov
X-WR-CALDESC:Events for Loudoun County Economic Development, VA
REFRESH-INTERVAL;VALUE=DURATION:PT1H
X-Robots-Tag:noindex
X-PUBLISHED-TTL:PT1H
BEGIN:VTIMEZONE
TZID:America/New_York
BEGIN:DAYLIGHT
TZOFFSETFROM:-0500
TZOFFSETTO:-0400
TZNAME:EDT
DTSTART:20230312T070000
END:DAYLIGHT
BEGIN:STANDARD
TZOFFSETFROM:-0400
TZOFFSETTO:-0500
TZNAME:EST
DTSTART:20231105T060000
END:STANDARD
END:VTIMEZONE
BEGIN:VEVENT
DTSTART;TZID=America/New_York:20230406T083000
DTEND;TZID=America/New_York:20230406T093000
DTSTAMP:20260420T153642
CREATED:20230310T193820Z
LAST-MODIFIED:20230310T193820Z
UID:23355-1680769800-1680773400@biz.loudoun.gov
SUMMARY:Working Genius - How Work Gets Done (Webinar)
DESCRIPTION:Credit: SHRM certificate of attendance (HRCI Credits TBD) \n6 Steps to Successfully Understanding How Work Gets Done by understanding yourself and others.  Join us on this journey to discuss this further and see how you can begin to apply this in your in your work environment.  \n 
URL:https://biz.loudoun.gov/event/working-genius-how-work-gets-done-webinar/
LOCATION:MD
CATEGORIES:Workforce Development,Webinars,For Employees/Jobseekers
ATTACH;FMTTYPE=image/jpeg:https://biz.loudoun.gov/wp-content/uploads/2022/03/1500x500-1.jpeg
END:VEVENT
END:VCALENDAR