BEGIN:VCALENDAR
VERSION:2.0
PRODID:-//Loudoun County Economic Development, VA - ECPv6.11.2.1//NONSGML v1.0//EN
CALSCALE:GREGORIAN
METHOD:PUBLISH
X-WR-CALNAME:Loudoun County Economic Development, VA
X-ORIGINAL-URL:https://biz.loudoun.gov
X-WR-CALDESC:Events for Loudoun County Economic Development, VA
REFRESH-INTERVAL;VALUE=DURATION:PT1H
X-Robots-Tag:noindex
X-PUBLISHED-TTL:PT1H
BEGIN:VTIMEZONE
TZID:America/New_York
BEGIN:DAYLIGHT
TZOFFSETFROM:-0500
TZOFFSETTO:-0400
TZNAME:EDT
DTSTART:20230312T070000
END:DAYLIGHT
BEGIN:STANDARD
TZOFFSETFROM:-0400
TZOFFSETTO:-0500
TZNAME:EST
DTSTART:20231105T060000
END:STANDARD
END:VTIMEZONE
BEGIN:VEVENT
DTSTART;TZID=America/New_York:20230327T183000
DTEND;TZID=America/New_York:20230327T203000
DTSTAMP:20260420T080945
CREATED:20230309T203308Z
LAST-MODIFIED:20230309T203308Z
UID:23331-1679941800-1679949000@biz.loudoun.gov
SUMMARY:2023 Part-Time Summer Job Fair (Business Registration)
DESCRIPTION:On March 27\, 2023 from 6:30pm to 8:30pm Rock Ridge HS will be hosting a Part-Time and Summer Job Fair. \nThis is a free event at Rock Ridge HS and open to all Loudoun County High School students. \nLCPS would like to promote any jobs you may have for summer 2023 and year round for high school students only. Any internships and apprenticeships and volunteer opportunities you may have. \nDeadline to register is March 20 \nFor information please email tiziana.marchante@lcps.org \n 
URL:https://biz.loudoun.gov/event/2023-part-time-summer-job-fair-business-registration/
LOCATION:Rock Ridge High School\, 43460 Loudoun Reserve Dr\, Ashburn\, Virginia\, 20148
CATEGORIES:Workforce Development,For Businesses
ATTACH;FMTTYPE=image/png:https://biz.loudoun.gov/wp-content/uploads/2023/03/Flyer-Summer-Part-time-flyer-PNG-002.png
END:VEVENT
BEGIN:VEVENT
DTSTART;TZID=America/New_York:20230328T140000
DTEND;TZID=America/New_York:20230328T150000
DTSTAMP:20260420T080945
CREATED:20230314T135112Z
LAST-MODIFIED:20230314T135112Z
UID:23366-1680012000-1680015600@biz.loudoun.gov
SUMMARY:Northern Virginia Workforce Network (Virtual)
DESCRIPTION:Are you interested in finding innovative solutions to our region’s workforce challenges? Then please join us for the next meeting of the NOVA Workforce Network. The NOVA Workforce Network is an inclusive and collaborative community of workforce professionals and others interested in workforce innovation. Monthly meetings are held on the 4th Tuesday of each month. \nFeature Guest Speaker \nG. Bryan Slater\, Secretary of Labor\, Commonwealth of Virginia\, will present on the recently passed workforce consolidation bill and the next steps in ensuring our workforce efforts in Virginia run efficiently while maximizing resources.
URL:https://biz.loudoun.gov/event/northern-virginia-workforce-network-virtual/
LOCATION:MD
CATEGORIES:Workforce Development,Webinars,For Employees/Jobseekers,For Businesses
ATTACH;FMTTYPE=image/png:https://biz.loudoun.gov/wp-content/uploads/2023/03/335269193_592723219155038_2689954579856845846_n.png
END:VEVENT
BEGIN:VEVENT
DTSTART;TZID=America/New_York:20230329T100000
DTEND;TZID=America/New_York:20230329T110000
DTSTAMP:20260420T080945
CREATED:20230323T150816Z
LAST-MODIFIED:20230323T150816Z
UID:23483-1680084000-1680087600@biz.loudoun.gov
SUMMARY:INTRODUCTORY BOOKKEEPING & FINANCIAL MANAGEMENT (Virtual)
DESCRIPTION:Ian this workshop\, we will discuss the fundamentals of financial management. We will explain the importance of separating your personal and business finances\, best bookkeeping practices\, provide basic information on tax requirements and discuss how to monitor the financial health of your business.
URL:https://biz.loudoun.gov/event/introductory-bookkeeping-financial-management-virtual/
LOCATION:MD
CATEGORIES:Small Biz,Business Planning,Webinars
END:VEVENT
BEGIN:VEVENT
DTSTART;TZID=America/New_York:20230330T160000
DTEND;TZID=America/New_York:20230330T190000
DTSTAMP:20260420T080945
CREATED:20230131T170822Z
LAST-MODIFIED:20230131T170822Z
UID:22977-1680192000-1680202800@biz.loudoun.gov
SUMMARY:Spring 2023 Hybrid Job Fair
DESCRIPTION:WIT’s Job Fair events brings technology and business professionals of all levels together with top organizations in the DC Metro area looking to fill a wide variety of roles including STEM-based fields. Both women and men are encouraged to participate and meet recruiters and hiring managers actively seeking candidates for positions. Exhibitors of all types – small\, medium\, large; public\, private – can use this event to fill urgent\, pipeline\, and hot jobs. \nFor this hybrid job fair\, candidates and employers can attend the in-person job fair on March 30th; you will also have the option to attend online on March 31st to have even more time to maximize your recruiting efforts or job search.
URL:https://biz.loudoun.gov/event/spring-2023-hybrid-job-fair/
LOCATION:Hyatt Regency Tysons Corner\, 7901 Tysons One Place\, Tysons\, VA\, 22102\, United States
CATEGORIES:Workforce Development,For Employees/Jobseekers
ATTACH;FMTTYPE=image/jpeg:https://biz.loudoun.gov/wp-content/uploads/2022/05/WiT-Accelerateher-Logo.jpeg
END:VEVENT
BEGIN:VEVENT
DTSTART;TZID=America/New_York:20230330T163000
DTEND;TZID=America/New_York:20230330T183000
DTSTAMP:20260420T080945
CREATED:20230310T151441Z
LAST-MODIFIED:20230310T151441Z
UID:23338-1680193800-1680201000@biz.loudoun.gov
SUMMARY:Biotech & Beer
DESCRIPTION:Join us for Biotech & Beer on Thursday\, March 30th from 4:30 P.M. to 6:30 P.M in McLean. \nGuest speaker John Newby\, CEO of Virginia Bio\, will share exciting areas of growth and expansion in Virginia’s life science ecosystem and resources available to support companies and academic researchers across the state. Enjoy an evening of networking\, drinks\, and fun! \n 
URL:https://biz.loudoun.gov/event/biotech-beer/
LOCATION:JLL Tysons Office\, 1800 Tysons Boulevard\, Mclean\, Va\, 22102
CATEGORIES:Small Biz,Technology,Workforce Development
ATTACH;FMTTYPE=image/png:https://biz.loudoun.gov/wp-content/uploads/2023/03/March-Biotech-Beer-2023-Page-Graphic-Updated-2048x1024-1.png
END:VEVENT
BEGIN:VEVENT
DTSTART;TZID=America/New_York:20230331T120000
DTEND;TZID=America/New_York:20230331T140000
DTSTAMP:20260420T080945
CREATED:20230131T171442Z
LAST-MODIFIED:20230131T172522Z
UID:22979-1680264000-1680271200@biz.loudoun.gov
SUMMARY:Spring 2023 Hybrid Job Fair
DESCRIPTION:WIT’s Job Fair events brings technology and business professionals of all levels together with top organizations in the DC Metro area looking to fill a wide variety of roles including STEM-based fields. Both women and men are encouraged to participate and meet recruiters and hiring managers actively seeking candidates for positions. Exhibitors of all types – small\, medium\, large; public\, private – can use this event to fill urgent\, pipeline\, and hot jobs. \nFor this hybrid job fair\, candidates and employers can attend the in-person job fair on March 30th; you will also have the option to attend online on March 31st to have even more time to maximize your recruiting efforts or job search. \nVIRTUAL EVENT\nFriday\, March 31st\, 2023 | 12:00 – 2:00 pm ET\nVirtual on Brazen
URL:https://biz.loudoun.gov/event/spring-2023-hybrid-job-fair-2/
LOCATION:MD
CATEGORIES:Workforce Development,For Employees/Jobseekers
ATTACH;FMTTYPE=image/jpeg:https://biz.loudoun.gov/wp-content/uploads/2022/05/WiT-Accelerateher-Logo.jpeg
END:VEVENT
BEGIN:VEVENT
DTSTART;TZID=America/New_York:20230401T100000
DTEND;TZID=America/New_York:20230401T150000
DTSTAMP:20260420T080945
CREATED:20230310T201747Z
LAST-MODIFIED:20230310T201747Z
UID:23357-1680343200-1680361200@biz.loudoun.gov
SUMMARY:Loudoun Hosts Nothern Virginia Housing Expo
DESCRIPTION:Loudoun County is hosting the 13th annual Northern Virginia Housing Expo on Saturday\, April 1\, 2023\, from 10:00 a.m. to 3:00 p.m. at Dominion High School\, 21326 Augusta Drive in Sterling. \nAnyone looking for an affordable place to live in Northern Virginia is encouraged to visit the expo\, which will showcase both homeownership and rental opportunities and resources throughout the region. \nThe event will feature workshops\, an exhibit hall and free one-on-one financial coaching sessions. Staff from the Loudoun County Department of Housing and Community Development will participate in two panels to share information on Loudoun County programs for renters and homebuyers. Other workshop topics include credit scores\, fair housing\, household budgeting and a home sale market overview. \nThe expo is a cooperative effort of Arlington\, Fairfax\, Loudoun and Prince William counties; the cities of Alexandria\, Falls Church and Manassas Park; Virginia Housing; the U.S. Department of Housing and Urban Development (District of Columbia/National Capital Area Office); Northern Virginia Association of Realtors®; and the Metropolitan Washington Council of Governments. \nDetails about the event as well as a year-round virtual exhibit hall are available at novahousingexpo.org. Additional resources for homebuyers and renters in Loudoun County are available at loudoun.gov/housing. \nAnyone who needs to request language interpretation or accommodations for any type of disability in order to participate in this event should contact the Department of Housing and Community Development at 703-737-8323 orby email. Five days’ notice is requested.
URL:https://biz.loudoun.gov/event/loudoun-hosts-nothern-virginia-housing-expo/
LOCATION:Dominion High School\, 21326 Augusta Drive\, Sterling\, VA\, 20164
CATEGORIES:Workforce Development,For Employees/Jobseekers,For Businesses
END:VEVENT
END:VCALENDAR