BEGIN:VCALENDAR
VERSION:2.0
PRODID:-//Loudoun County Economic Development, VA - ECPv6.11.2.1//NONSGML v1.0//EN
CALSCALE:GREGORIAN
METHOD:PUBLISH
X-WR-CALNAME:Loudoun County Economic Development, VA
X-ORIGINAL-URL:https://biz.loudoun.gov
X-WR-CALDESC:Events for Loudoun County Economic Development, VA
REFRESH-INTERVAL;VALUE=DURATION:PT1H
X-Robots-Tag:noindex
X-PUBLISHED-TTL:PT1H
BEGIN:VTIMEZONE
TZID:America/New_York
BEGIN:DAYLIGHT
TZOFFSETFROM:-0500
TZOFFSETTO:-0400
TZNAME:EDT
DTSTART:20230312T070000
END:DAYLIGHT
BEGIN:STANDARD
TZOFFSETFROM:-0400
TZOFFSETTO:-0500
TZNAME:EST
DTSTART:20231105T060000
END:STANDARD
END:VTIMEZONE
BEGIN:VEVENT
DTSTART;TZID=America/New_York:20230214T110000
DTEND;TZID=America/New_York:20230214T140000
DTSTAMP:20260419T165247
CREATED:20230127T211851Z
LAST-MODIFIED:20230127T211851Z
UID:22917-1676372400-1676383200@biz.loudoun.gov
SUMMARY:DC Area IT Career Pathways Hiring Event
DESCRIPTION:This is an online event to match candidates who have IT certifications\, self-study\, or experience in IT with companies in Northern Virginia who have entry-level and career pathway opportunities to enter the IT career field. Companies present may offer internships\, apprenticeships\, on the job training\, entry-level opportunities as well as opportunities for experienced workers. \nDon’t miss the presentation at 11:00 a.m. where 6 companies will talk about their opportunities so you can learn which ones you want to speak with. \nPlease upload your resume ahead of time so we can recommend you to companies. \n 
URL:https://biz.loudoun.gov/event/dc-area-it-career-pathways-hiring-event/
LOCATION:MD
CATEGORIES:Workforce Development,Webinars,For Employees/Jobseekers
ATTACH;FMTTYPE=image/png:https://biz.loudoun.gov/wp-content/uploads/2021/10/https___cdn.evbuc_.com_images_159685529_280955410758_1_original.png
END:VEVENT
BEGIN:VEVENT
DTSTART;TZID=America/New_York:20230216T110000
DTEND;TZID=America/New_York:20230216T140000
DTSTAMP:20260419T165247
CREATED:20230130T194821Z
LAST-MODIFIED:20230130T195713Z
UID:22931-1676545200-1676556000@biz.loudoun.gov
SUMMARY:Corporate Gray Virtual Job Fair
DESCRIPTION:This Corporate Gray Virtual Military-Friendly Job Fair provides military-experienced job seekers with the opportunity to interview employers nationwide via text chats and video. This event is especially for transitioning service members and veterans\, but open to all job seekers. Job seekers are required to register on Premier Virtual (virtual platform being used) and upload their resume to participate in the event. Registered candidates will receive Virtual Job Fair training information and the Job Fair Employer Directory prior to the Virtual Job Fair.
URL:https://biz.loudoun.gov/event/corporate-gray-virtual-job-fair/
LOCATION:MD
CATEGORIES:Workforce Development,Webinars,For Employees/Jobseekers
ATTACH;FMTTYPE=image/jpeg:https://biz.loudoun.gov/wp-content/uploads/2023/01/FnaJluLaMAEQnM2.jpg
END:VEVENT
END:VCALENDAR