BEGIN:VCALENDAR
VERSION:2.0
PRODID:-//Loudoun County Economic Development, VA - ECPv6.11.2.1//NONSGML v1.0//EN
CALSCALE:GREGORIAN
METHOD:PUBLISH
X-WR-CALNAME:Loudoun County Economic Development, VA
X-ORIGINAL-URL:https://biz.loudoun.gov
X-WR-CALDESC:Events for Loudoun County Economic Development, VA
REFRESH-INTERVAL;VALUE=DURATION:PT1H
X-Robots-Tag:noindex
X-PUBLISHED-TTL:PT1H
BEGIN:VTIMEZONE
TZID:America/New_York
BEGIN:DAYLIGHT
TZOFFSETFROM:-0500
TZOFFSETTO:-0400
TZNAME:EDT
DTSTART:20210314T070000
END:DAYLIGHT
BEGIN:STANDARD
TZOFFSETFROM:-0400
TZOFFSETTO:-0500
TZNAME:EST
DTSTART:20211107T060000
END:STANDARD
BEGIN:DAYLIGHT
TZOFFSETFROM:-0500
TZOFFSETTO:-0400
TZNAME:EDT
DTSTART:20220313T070000
END:DAYLIGHT
BEGIN:STANDARD
TZOFFSETFROM:-0400
TZOFFSETTO:-0500
TZNAME:EST
DTSTART:20221106T060000
END:STANDARD
BEGIN:DAYLIGHT
TZOFFSETFROM:-0500
TZOFFSETTO:-0400
TZNAME:EDT
DTSTART:20230312T070000
END:DAYLIGHT
BEGIN:STANDARD
TZOFFSETFROM:-0400
TZOFFSETTO:-0500
TZNAME:EST
DTSTART:20231105T060000
END:STANDARD
BEGIN:DAYLIGHT
TZOFFSETFROM:-0500
TZOFFSETTO:-0400
TZNAME:EDT
DTSTART:20240310T070000
END:DAYLIGHT
BEGIN:STANDARD
TZOFFSETFROM:-0400
TZOFFSETTO:-0500
TZNAME:EST
DTSTART:20241103T060000
END:STANDARD
BEGIN:DAYLIGHT
TZOFFSETFROM:-0500
TZOFFSETTO:-0400
TZNAME:EDT
DTSTART:20250309T070000
END:DAYLIGHT
BEGIN:STANDARD
TZOFFSETFROM:-0400
TZOFFSETTO:-0500
TZNAME:EST
DTSTART:20251102T060000
END:STANDARD
END:VTIMEZONE
BEGIN:VEVENT
DTSTART;TZID=America/New_York:20210127T100000
DTEND;TZID=America/New_York:20210127T130000
DTSTAMP:20260423T000253
CREATED:20210112T220008Z
LAST-MODIFIED:20210126T185528Z
UID:16830-1611741600-1611752400@biz.loudoun.gov
SUMMARY:Loudoun Workforce Resource Center Virtual Job Fair
DESCRIPTION:The Loudoun Workforce Resource Center will host a Virtual Job Fair on Wednesday\, January 27\, 2021\, from 10:00 a.m. – 1:00 p.m. \nThe Virtual Job Fair will feature local employers with full-time\, part-time and flex-schedule job openings in Loudoun County and the region. Over 30 employers from various industries will be attending\, including Amazon\, Inova Health System\, JK Moving\, Loudoun County Government\, Northwest Federal Credit Union\, Premier Staffing Source and many others. Some of the open positions include warehouse specialist\, billing specialist\, staff accountant\, certified nursing assistant\, payroll administrator\, case investigator\, electrician\, construction laborer\, inventory specialist\, recruiter and manufacturer technician. Those planning to attend the job fair must register in advance online. Once registered\, attendees will be able to view the full list of all employers attending. \nTo help job seekers get the most out of the virtual job fair\, the Loudoun Workforce Resource Center encourages job seekers to attend the webinar\, “Ask an HR Pro: Resumes & Recruitment\,” on Tuesday\, January 19\, 2021\, from 3:00 p.m. to 4:30 p.m. Register online at askanhrpro.eventbrite.com. \nAdditional resources to help job seekers prepare for the virtual job fair are available from the Loudoun Workforce Resource Center at loudoun.gov/wrcworkshops\, such as Tips for Participating in Virtual Career Fairs (PDF). \nAnyone who requires a reasonable accommodation for any type of disability in order to participate in either event may call 703-737-8081. Three days’ notice is requested. \nThe Loudoun Workforce Resource Center\, a Virginia Career Works affiliate\, helps businesses identify well-qualified applicants and helps those looking for work find the right fit. \nFor more information\, contact the center at 703-777-0150 or visit loudoun.gov/wrc.
URL:https://biz.loudoun.gov/event/loudoun-workforce-resource-center-virtual-job-fair/
LOCATION:VA
CATEGORIES:Small Biz,Workforce Development,Webinars,For Employees/Jobseekers
ATTACH;FMTTYPE=image/png:https://biz.loudoun.gov/wp-content/uploads/2021/01/Document-1.png
END:VEVENT
BEGIN:VEVENT
DTSTART;TZID=America/New_York:20210520T100000
DTEND;TZID=America/New_York:20210520T150000
DTSTAMP:20260423T000253
CREATED:20210513T172532Z
LAST-MODIFIED:20210513T202503Z
UID:18278-1621504800-1621522800@biz.loudoun.gov
SUMMARY:Virtual  Cyber Career Fair
DESCRIPTION:Learn about Cyber Careers\, meet and network with employers. Interact with VA Cyber Academies and view job postings. \n 
URL:https://biz.loudoun.gov/event/virtual-cyber-career-fair/
LOCATION:VA
CATEGORIES:Workforce Development,Webinars,For Employees/Jobseekers
ATTACH;FMTTYPE=image/jpeg:https://biz.loudoun.gov/wp-content/uploads/2021/05/VCSA_Header___Footer__2.jpg
END:VEVENT
BEGIN:VEVENT
DTSTART;TZID=America/New_York:20211028T150000
DTEND;TZID=America/New_York:20211028T170000
DTSTAMP:20260423T000253
CREATED:20211022T191606Z
LAST-MODIFIED:20211022T191606Z
UID:19774-1635433200-1635440400@biz.loudoun.gov
SUMMARY:Virtual College Fair for Active Duty Service Members & Veterans
DESCRIPTION:Active duty service members and veterans are invited to register for a virtual college fair presented for free by the Columbia University Center for Veteran Transition and Integration (CVTI.) The fair will facilitate direct\, live conversations between prospective students interested in pursuing an undergraduate degree and school admissions representatives at 2- and 4-year institutions across the country.
URL:https://biz.loudoun.gov/event/virtual-college-fair-for-active-duty-service-members-veterans/
LOCATION:VA
CATEGORIES:Workforce Development,Webinars,For Employees/Jobseekers
ATTACH;FMTTYPE=image/jpeg:https://biz.loudoun.gov/wp-content/uploads/2021/10/FCJ0H27XsAE8zLq.jpg
END:VEVENT
BEGIN:VEVENT
DTSTART;TZID=America/New_York:20211104T130000
DTEND;TZID=America/New_York:20211104T160000
DTSTAMP:20260423T000253
CREATED:20211021T133731Z
LAST-MODIFIED:20211021T133731Z
UID:19759-1636030800-1636041600@biz.loudoun.gov
SUMMARY:Veteran & Military Virtual Career Day
DESCRIPTION:Are you a veteran\, transitioning military\, or a military spouse looking to transition into a new job or shift your career? Interview November 4 at Veteran & Military Virtual Career Day with almost 60 leading companies and organizations in Northern Virginia collectively hiring for more than 7\,000 open positions across industry sectors ranging from IT to healthcare.
URL:https://biz.loudoun.gov/event/veteran-military-virtual-career-day/
LOCATION:VA
CATEGORIES:Workforce Development,Webinars,For Employees/Jobseekers
ATTACH;FMTTYPE=image/jpeg:https://biz.loudoun.gov/wp-content/uploads/2021/10/Veteran-Career-Day.jpg
END:VEVENT
BEGIN:VEVENT
DTSTART;TZID=America/New_York:20220406T100000
DTEND;TZID=America/New_York:20220406T150000
DTSTAMP:20260423T000253
CREATED:20220317T191713Z
LAST-MODIFIED:20220317T191713Z
UID:20734-1649239200-1649257200@biz.loudoun.gov
SUMMARY:Shenandoah University Internship & Career Fair
DESCRIPTION:Career & Professional Development is happy to announce the Spring 2022 Internship & Career Fair! Join us on April 6th anytime between 10am-3pm in the Ferrari room\, located in the Brandt Student Center\, to meet with our students. \nEmployers can register online through Handshake.
URL:https://biz.loudoun.gov/event/shenandoah-university-internship-career-fair/
LOCATION:Shenandoah University – Loudoun\, 44160 Scholar Plaza\, Leesburg\, VA\, 20176\, United States
CATEGORIES:Workforce Development,For Businesses
ATTACH;FMTTYPE=image/png:https://biz.loudoun.gov/wp-content/uploads/2022/03/Logo_CPD_4C_copy.png
ORGANIZER;CN="Shenandoah University":MAILTO:career@su.edu
END:VEVENT
BEGIN:VEVENT
DTSTART;TZID=America/New_York:20220419T100000
DTEND;TZID=America/New_York:20220419T130000
DTSTAMP:20260423T000253
CREATED:20220322T151433Z
LAST-MODIFIED:20220322T152821Z
UID:20766-1650362400-1650373200@biz.loudoun.gov
SUMMARY:April Job Fairs - Employer Sign Up (Virtual)
DESCRIPTION:Interested in taking part in a job fair? The Workforce Resource Center is hosting 1 virtual and 2 in-person job fairs in April. Please review the available slots below and click on the button to register your business to participate. Thank you! \nhttps://www.signupgenius.com/go/9040945aca723a0fd0-april
URL:https://biz.loudoun.gov/event/april-job-fairs-employer-sign-up-virtual/2022-04-19/
LOCATION:VA
CATEGORIES:Workforce Development,Webinars,For Businesses
ATTACH;FMTTYPE=image/png:https://biz.loudoun.gov/wp-content/uploads/2021/10/https___cdn.evbuc_.com_images_159685529_280955410758_1_original.png
END:VEVENT
BEGIN:VEVENT
DTSTART;TZID=America/New_York:20220420T130000
DTEND;TZID=America/New_York:20220420T150000
DTSTAMP:20260423T000253
CREATED:20220322T153943Z
LAST-MODIFIED:20220322T154036Z
UID:20768-1650459600-1650466800@biz.loudoun.gov
SUMMARY:IN-PERSON Job Fair Employer Signup
DESCRIPTION:Interested in taking part in a job fair? The Workforce Resource Center is hosting 1 virtual and 2 in-person job fairs in April. Please review the available slots below and click on the button to register your business to participate. Thank you! \nhttps://www.signupgenius.com/go/9040945aca723a0fd0-april
URL:https://biz.loudoun.gov/event/in-person-job-fair-employer-signup/2022-04-20/
LOCATION:Douglass Community Center\, 705-H East Market Street\, Leesburg\, VA\, 20176\, United States
CATEGORIES:Workforce Development,For Businesses
ATTACH;FMTTYPE=image/png:https://biz.loudoun.gov/wp-content/uploads/2021/10/https___cdn.evbuc_.com_images_159685529_280955410758_1_original.png
END:VEVENT
BEGIN:VEVENT
DTSTART;TZID=America/New_York:20220421T130000
DTEND;TZID=America/New_York:20220421T150000
DTSTAMP:20260423T000253
CREATED:20220322T155819Z
LAST-MODIFIED:20220322T180353Z
UID:20779-1650546000-1650553200@biz.loudoun.gov
SUMMARY:IN-PERSON Job Fair Employer Signup
DESCRIPTION:Interested in taking part in a job fair? The Workforce Resource Center is hosting 1 virtual and 2 in-person job fairs in April. Please review the available slots below and click on the button to register your business to participate. Thank you!
URL:https://biz.loudoun.gov/event/in-person-job-fair-employer-signup-2/2022-04-21/
LOCATION:VA
CATEGORIES:Workforce Development,For Businesses
ATTACH;FMTTYPE=image/png:https://biz.loudoun.gov/wp-content/uploads/2021/10/https___cdn.evbuc_.com_images_159685529_280955410758_1_original.png
END:VEVENT
BEGIN:VEVENT
DTSTART;TZID=America/New_York:20220525T100000
DTEND;TZID=America/New_York:20220525T150000
DTSTAMP:20260423T000253
CREATED:20220512T181302Z
LAST-MODIFIED:20220512T181302Z
UID:21318-1653472800-1653490800@biz.loudoun.gov
SUMMARY:United Airlines Career Fair
DESCRIPTION:A career is a journey-take yours further connecting people and uniting the world is what we do\, and we want you to join us. With so many career opportunities around the world\, we can’t wait to help you find yours. \n#beingunited \nInterviews and conditional job offers on the spot! \nPlease bring a resume \nRamp Agent $17.14/HR + $10\,000 Sign on bonus
URL:https://biz.loudoun.gov/event/united-airlines-career-fair/
LOCATION:Dulles Expo Center\, 4320 Chantilly Shopping Center\, Chantilly\, Virginia\, 20151
CATEGORIES:Workforce Development,For Employees/Jobseekers
END:VEVENT
BEGIN:VEVENT
DTSTART;TZID=America/New_York:20221005T090000
DTEND;TZID=America/New_York:20221005T150000
DTSTAMP:20260423T000253
CREATED:20220914T181640Z
LAST-MODIFIED:20220914T182318Z
UID:22057-1664960400-1664982000@biz.loudoun.gov
SUMMARY:The Virginia Life Sciences Career Fair
DESCRIPTION:Virginia Bio-Connect\, a project by Virginia Bio\, is organizing the Virginia Life Sciences Career Fair on October 5\, 2022. The career fair is a hybrid event and will be held in person at the Omni Hotel\, Richmond\, and virtually in the comfort and convenience of your home or office. The event is FREE for recruiters and will help you connect with job seekers from around the state and beyond. \nIf interested\, please register soon\, as we have a limited number of physical and virtual booths. \nEmployers register here: https://vabioconnect.vfairs.com/en/exhibitor-registration \nJob seekers register here: https://vabioconnect.vfairs.com/en/registration-form
URL:https://biz.loudoun.gov/event/the-virginia-life-sciences-career-fair/
LOCATION:Omni Hotel\, 100 S 12th St\, Richmond\, VA\, 23219
CATEGORIES:Workforce Development,For Employees/Jobseekers,For Businesses
ATTACH;FMTTYPE=image/jpeg:https://biz.loudoun.gov/wp-content/uploads/2022/09/1662123614banner-jpg1662123614.jpg
END:VEVENT
BEGIN:VEVENT
DTSTART;TZID=America/New_York:20230509T100000
DTEND;TZID=America/New_York:20230509T130000
DTSTAMP:20260423T000253
CREATED:20230505T193553Z
LAST-MODIFIED:20230505T193553Z
UID:23885-1683626400-1683637200@biz.loudoun.gov
SUMMARY:Middleburg Career Fair
DESCRIPTION:On Tuesday\, May 9 from 10 a.m. to 1 p.m.\, the Town will host a career fair at the Middleburg Community Center (300 W. Washington St.\, Middleburg 20117). Job openings are full time\, part time\, and include a few volunteer opportunities. Those interested in attending should sign up at eventbrite.com/e/middleburg-career-fair-tickets-626730737507. \nThe event is in partnership with Visit Middleburg\, Loudoun Workforce Resource Center\, and Loudoun County Economic Development. \nPlease contact Ali MacIntyre\, director of business development and community partnerships with the Town of Middleburg\, at amacintyre@middleburgva.gov. \nFor more information on Middleburg\, visit middleburgva.gov.
URL:https://biz.loudoun.gov/event/middleburg-career-fair-2/
LOCATION:Middleburg Community Center\, 300 W Washington St\, Middleburg\, VA\, 20117
CATEGORIES:Workforce Development,For Employees/Jobseekers,For Businesses
ATTACH;FMTTYPE=image/jpeg:https://biz.loudoun.gov/wp-content/uploads/2023/05/Middleburg-Career-Fair-1.jpg
END:VEVENT
BEGIN:VEVENT
DTSTART;TZID=America/New_York:20230628T130000
DTEND;TZID=America/New_York:20230628T160000
DTSTAMP:20260423T000253
CREATED:20230620T201756Z
LAST-MODIFIED:20230620T201756Z
UID:24097-1687957200-1687968000@biz.loudoun.gov
SUMMARY:Hiring Our Heroes: Virtual Career Summit
DESCRIPTION:Whether you’re looking for work now or exploring future possibilities\, representatives are ready to meet and answer your questions. Network in real-time with over forty employers across multiple industries and access on-demand career preparation workshops — all at this free event. \nSee the full list of employers scheduled to participate below! \nEmployers Scheduled to Participate in the Virtual Career Summit:\n• AstrumU\n• CBRE\n• CNA\n• Encore Global\n• First Command\n• Hilton\n• Penske\n• Power Home Remodeling\n• Verizon\n• Cessna and Beechcraft by Textron Aviation\n• Department of the Army\, Criminal Investigation Division (CID)\n• Fairfax County Sheriff’s Office\n• General Dynamics\n• Government Tactical Solutions\n• Ignite Digital Services (previously Atlas Consulting)\n• Information Management Group\n• International League of Associations for Rheumatology (ILAR – ATDM)\n• Layton Construction\n• Limbach Company\n• Link Solutions Inc.\n• National Geospatial-Intelligence Agency (NGA)\n• Parsons Corporation\n• Precision Castparts Corp\n• PRISM Inc.\n• Protection Strategies Inc.\n• Rocket Companies\n• Sartorius\n• Sedgwick\n• SEMI Foundation\n• SkillStorm\n• Solar Turbines Inc. (A Caterpillar Company)\n• Southern Glazer’s Wine & Spirits\n• SQA Services\n• United States Secret Service (USSS)\n• USIC\n• Vanguard Inspection Services\n• VMware\n• Walden Security\n• Williams Companies \n 
URL:https://biz.loudoun.gov/event/hiring-our-heroes-virtual-career-summit-3/
LOCATION:VA
CATEGORIES:Workforce Development,Webinars,For Employees/Jobseekers
ATTACH;FMTTYPE=image/png:https://biz.loudoun.gov/wp-content/uploads/2021/10/Screen-Shot-2019-01-24-at-1.05.06-PM-222csp9.png
END:VEVENT
BEGIN:VEVENT
DTSTART;TZID=America/New_York:20250318T100000
DTEND;TZID=America/New_York:20250318T130000
DTSTAMP:20260423T000253
CREATED:20250227T165809Z
LAST-MODIFIED:20250227T165909Z
UID:29509-1742292000-1742302800@biz.loudoun.gov
SUMMARY:Loudoun Job Fair: Public Sector Opportunities
DESCRIPTION:The Loudoun Workforce Resource Center will host a Loudoun Job Fair on Tuesday\, March 18\, 2025\, 10:00 a.m. – 1:00 p.m.\, at the Dulles South Recreation and Community Center\, 24950 Riding Center Drive in South Riding. \nThe job fair will primarily focus on the public sector\, featuring more than 15 state and local government employers with opportunities in administration\, aviation\, education\, engineering\, fire and rescue\, health care\, law enforcement\, transportation\, and other fields. \nThe Loudoun County government\, which was recently designated by Forbes magazine as one of the Best Large Employers in 2025\, will be among the employers represented at the fair. \nJob seekers are encouraged to prepare for the fair: \n\nAttend a virtual preparatory workshop:\n\n“Ready\, Set\, Go to the Job Fair.”\nRegister at wrccareers.eventbrite.com.\n\n\nGet a free copy of “Turn a Job Fair Into a Job Offer:”\n\nCall 703-777-0150 or email wrc@loudoun.gov and provide a mailing address.\n\n\nDress professionally and bring multiple resume copies.\n\nThe event is free however registration is strongly recommended. \nThose planning to attend can pre-register at loudoun.gov/JobFair to receive reminders and updates. In case of inclement weather\, the event will be held Tuesday\, March 25\, 2025\, 10:00 a.m. – 1:00 p.m.\, at the same location. \nAnyone who requires an accommodation for any disability in order to participate\, including language assistance\, should contact the Loudoun Workforce Resource Center at 703-777-0150. Three business days’ notice is requested. \nFor more information\, contact the Workforce Resource Center at 703-777-0150 or visit loudoun.gov/wrc. \nTue\, Mar 18\, 2025\, 10:00 AM – 1:00 PM (your local time) \n24950 Riding Center Dr\, South Riding\, Virginia\, US\, 20152 \nDulles South Recreation and Community Center \nEvent link https://loudoun.gov/JobFair
URL:https://biz.loudoun.gov/event/loudoun-job-fair-public-sector-opportunities/
LOCATION:Dulles South Recreation and Community Center\, 24950 Riding Center\, South Riding\, VA\, 20152
CATEGORIES:Networking,Workforce Development,For Employees/Jobseekers,For Businesses
ATTACH;FMTTYPE=image/png:https://biz.loudoun.gov/wp-content/uploads/2025/02/Loudoun-Job-Fair-Mar-18-2025.png
END:VEVENT
END:VCALENDAR