BEGIN:VCALENDAR
VERSION:2.0
PRODID:-//Loudoun County Economic Development, VA - ECPv6.11.2.1//NONSGML v1.0//EN
CALSCALE:GREGORIAN
METHOD:PUBLISH
X-ORIGINAL-URL:https://biz.loudoun.gov
X-WR-CALDESC:Events for Loudoun County Economic Development, VA
REFRESH-INTERVAL;VALUE=DURATION:PT1H
X-Robots-Tag:noindex
X-PUBLISHED-TTL:PT1H
BEGIN:VTIMEZONE
TZID:America/New_York
BEGIN:DAYLIGHT
TZOFFSETFROM:-0500
TZOFFSETTO:-0400
TZNAME:EDT
DTSTART:20250309T070000
END:DAYLIGHT
BEGIN:STANDARD
TZOFFSETFROM:-0400
TZOFFSETTO:-0500
TZNAME:EST
DTSTART:20251102T060000
END:STANDARD
END:VTIMEZONE
BEGIN:VEVENT
DTSTART;TZID=America/New_York:20250227T110000
DTEND;TZID=America/New_York:20250227T130000
DTSTAMP:20260425T211814
CREATED:20250219T194755Z
LAST-MODIFIED:20250219T195106Z
UID:29422-1740654000-1740661200@biz.loudoun.gov
SUMMARY:Strategic Internship Programs Virtual Workshop: Fueling Your Talent Pipeline
DESCRIPTION:This two-hour virtual workshop is the best approach to staying informed about the preferences and expectations of today’s students regarding internships. You’ll hear invaluable input AgCareers collected directly from student interns and discover ways you can adjust your program.
URL:https://biz.loudoun.gov/event/strategic-internship-programs-virtual-workshop-fueling-your-talent-pipeline/
CATEGORIES:Workforce Development,Webinars,For Businesses
END:VEVENT
BEGIN:VEVENT
DTSTART;TZID=America/New_York:20250227T153000
DTEND;TZID=America/New_York:20250227T170000
DTSTAMP:20260425T211814
CREATED:20250220T194748Z
LAST-MODIFIED:20250220T194748Z
UID:29428-1740670200-1740675600@biz.loudoun.gov
SUMMARY:Discover the Talent: How to Leverage Hiring Our Heroes to Hire More Veterans and Military Spouses
DESCRIPTION:This event will showcase paths for organizations to hire more veterans and military spouses by participating in Hiring Our Heroes’ (HOH) events and programs. Join HOH program experts for an overview of programs\, then have an opportunity to get immediate answers to your questions in breakout rooms.
URL:https://biz.loudoun.gov/event/discover-the-talent-how-to-leverage-hiring-our-heroes-to-hire-more-veterans-and-military-spouses/
CATEGORIES:Workforce Development,Webinars,For Businesses
ATTACH;FMTTYPE=image/png:https://biz.loudoun.gov/wp-content/uploads/2021/10/Screen-Shot-2019-01-24-at-1.05.06-PM-222csp9.png
END:VEVENT
END:VCALENDAR