BEGIN:VCALENDAR
VERSION:2.0
PRODID:-//Loudoun County Economic Development, VA - ECPv6.11.2.1//NONSGML v1.0//EN
CALSCALE:GREGORIAN
METHOD:PUBLISH
X-WR-CALNAME:Loudoun County Economic Development, VA
X-ORIGINAL-URL:https://biz.loudoun.gov
X-WR-CALDESC:Events for Loudoun County Economic Development, VA
REFRESH-INTERVAL;VALUE=DURATION:PT1H
X-Robots-Tag:noindex
X-PUBLISHED-TTL:PT1H
BEGIN:VTIMEZONE
TZID:America/New_York
BEGIN:DAYLIGHT
TZOFFSETFROM:-0500
TZOFFSETTO:-0400
TZNAME:EDT
DTSTART:20250309T070000
END:DAYLIGHT
BEGIN:STANDARD
TZOFFSETFROM:-0400
TZOFFSETTO:-0500
TZNAME:EST
DTSTART:20251102T060000
END:STANDARD
END:VTIMEZONE
BEGIN:VEVENT
DTSTART;TZID=America/New_York:20250407T183000
DTEND;TZID=America/New_York:20250407T203000
DTSTAMP:20260425T174834
CREATED:20250227T193131Z
LAST-MODIFIED:20250227T193131Z
UID:29510-1744050600-1744057800@biz.loudoun.gov
SUMMARY:Part-Time & Summer Job Fair (Employer Registration)
DESCRIPTION:On April 7 from 6:30pm to 8:30pm\, Rock Ridge HS will be hosting its 2025 Annual Part-Time & Summer Job Fair. \nBusinesses – please complete the form below to submit your interest on participating to this event. \nThis is a free event at Rock Ridge HS and open to all high school students & families in Loudoun County. Last year\, we had over 1\,000 attendees. \nWe would like to promote any jobs you may have for summer 2025 and year-round for high school students only (14+). We would like to also promote any internships\, apprenticeships and volunteer positions you may have that are upcoming for high school students. \nFurther details on this event will be provided (including the event’s website) at the beginning of next year. \nFor information please email tiziana.marchante@lcps.org \nREGISTRATION FORM: https://forms.gle/fBKrRGocdrQiC7eJA
URL:https://biz.loudoun.gov/event/part-time-summer-job-fair-employer-registration/
LOCATION:Rock Ridge High School\, 43460 Loudoun Reserve Dr\, Ashburn\, Virginia\, 20148
CATEGORIES:Workforce Development,For Businesses
END:VEVENT
BEGIN:VEVENT
DTSTART;TZID=America/New_York:20250409T110000
DTEND;TZID=America/New_York:20250409T150000
DTSTAMP:20260425T174834
CREATED:20250213T143910Z
LAST-MODIFIED:20250317T191232Z
UID:29382-1744196400-1744210800@biz.loudoun.gov
SUMMARY:Dulles Airport Job & Career Fair
DESCRIPTION:  \nGet the downloadable flyer here. \n 
URL:https://biz.loudoun.gov/event/dulles-airport-job-career-fair/
LOCATION:Dulles Airport\, 1 Saarinen Circle\, Dulles\, 20166
CATEGORIES:Workforce Development,For Businesses
END:VEVENT
BEGIN:VEVENT
DTSTART;TZID=America/New_York:20250415T110000
DTEND;TZID=America/New_York:20250415T130000
DTSTAMP:20260425T174834
CREATED:20250304T211655Z
LAST-MODIFIED:20250410T182311Z
UID:29648-1744714800-1744722000@biz.loudoun.gov
SUMMARY:Launch Loudoun Lunch and Learn: Meet the Primes hosted by the Metropolitan Washington Airports Authority
DESCRIPTION:This event is at maximum capacity and will not be accepting additional registrations. \nMeet the General Contractors! \nJoin us for a dynamic networking event presented by Loudoun County Economic Development and the Metropolitan Washington Airports Authority (MWAA). This gathering brings together leading professionals in construction and development\, offering you the opportunity to connect with general contractors\, learn about upcoming projects. Whether you’re looking to expand your network or explore new collaboration opportunities\, this event provides the perfect platform to engage with industry experts and elevate your business. \nRegister: This event is at maximum capacity and will not be accepting additional registrations. \nDate: April 15th \nTime: 11am-1pm \nLocation: Washington Dulles Airport\, East Ground Transportation Center \nDirections to Event: Enter the airport through Arrival Door 7\, located on the lower level\, and the event will be located to the left of baggage claim in the Conference Center. The event will be across from Baggage Claim 1 & 2. \n \nParking: Guests are advised to park in the Terminal Parking on the lower level. This parking lot will be directly located across from the entrance of the event. The cost to park is $7/hr. Parking will not be validated. \nDon’t miss this unique opportunity to meet the contractors shaping the future of our region. Register now and secure your spot! \nLunch provided courtesy of John Marshall Bank.
URL:https://biz.loudoun.gov/event/launch-loudoun-lunch-and-learn-04-15-2025/
LOCATION:Dulles Airport\, 1 Saarinen Circle\, Dulles\, 20166
CATEGORIES:Small Biz,For Businesses,Networking
ATTACH;FMTTYPE=image/png:https://biz.loudoun.gov/wp-content/uploads/2025/03/Lunch-and-Learn-4-15-25-2.1.png
END:VEVENT
END:VCALENDAR