BEGIN:VCALENDAR
VERSION:2.0
PRODID:-//Loudoun County Economic Development, VA - ECPv6.11.2.1//NONSGML v1.0//EN
CALSCALE:GREGORIAN
METHOD:PUBLISH
X-ORIGINAL-URL:https://biz.loudoun.gov
X-WR-CALDESC:Events for Loudoun County Economic Development, VA
REFRESH-INTERVAL;VALUE=DURATION:PT1H
X-Robots-Tag:noindex
X-PUBLISHED-TTL:PT1H
BEGIN:VTIMEZONE
TZID:America/New_York
BEGIN:DAYLIGHT
TZOFFSETFROM:-0500
TZOFFSETTO:-0400
TZNAME:EDT
DTSTART:20250309T070000
END:DAYLIGHT
BEGIN:STANDARD
TZOFFSETFROM:-0400
TZOFFSETTO:-0500
TZNAME:EST
DTSTART:20251102T060000
END:STANDARD
END:VTIMEZONE
BEGIN:VEVENT
DTSTART;TZID=America/New_York:20250305T100000
DTEND;TZID=America/New_York:20250305T150000
DTSTAMP:20260425T193424
CREATED:20250227T164649Z
LAST-MODIFIED:20250227T164649Z
UID:29506-1741168800-1741186800@biz.loudoun.gov
SUMMARY:Virginia Has Jobs - Virtual Hiring Event
DESCRIPTION:Upcoming Statewide Virtual Hiring Event – Wednesday\, March 5th \nVirginia Works and our partners at the Virginia Employment Commission and Virginia Career Works are hosting a statewide virtual hiring event next Wednesday\, March 5th\, from 10 AM – 3 PM. This event will provide each employer who registers with a virtual “booth” and the opportunity to engage with jobseekers via presentations\, chat\, and 1:1 video interviews (like a true job fair\, but from across all regions and industries!) \nTo take part as an employer\, you’ll need to register in advance and ensure that you have an HR representative available to staff your booth. You’ll take a few minutes before the event to prepare an “about me” and upload information about the types of positions you’re looking to fill and links to your online applications/website and job descriptions\, and you can also book one-on-one time in advance with potential candidates to discuss or schedule interviews. \nNext steps to join in: \n\nRegister here via the Premier Virtual tool\nCheck out our two-page Quick-Reference Guide for this event\, attached to this email\n\nWe’ll be hosting two sets of “office hours” for registered employers later this week to answer questions about how to navigate the platform and prepare for the event – on Thursday\, Feb 27th and Friday\, Feb 28th from 12 to 1. Email HiringEvents@virginiaworks.govif you’d like to join or have any other questions about the process.
URL:https://biz.loudoun.gov/event/virginia-has-jobs-virtual-hiring-event/
LOCATION:Online\, Online
CATEGORIES:Workforce Development,For Employees/Jobseekers,For Businesses
ATTACH;FMTTYPE=image/jpeg:https://biz.loudoun.gov/wp-content/uploads/2025/02/Virginia-has-jobs.jpg
END:VEVENT
BEGIN:VEVENT
DTSTART;TZID=America/New_York:20250311T120000
DTEND;TZID=America/New_York:20250311T130000
DTSTAMP:20260425T193424
CREATED:20250303T161033Z
LAST-MODIFIED:20250303T161033Z
UID:29605-1741694400-1741698000@biz.loudoun.gov
SUMMARY:Tax Credits for Untapped Talent
DESCRIPTION:Did you know that Virginia provided $165 million to employers through the Work Opportunity Tax Credit last year? Join Virginia Works\, the Virginia Economic Development Partnership (VEDP)\, and the Virginia Chamber Foundation for the next in our bimonthly “Talent Collaborative” series of interactive\, business-focused webinars. This webinar will feature the Virginia Department of Social Services as a special guest and will explore how employers can leverage and braid tax incentives and workforce programs to solve their talent challenges. This event will include a presentation on available tax credits and eligibility as well as a discussion of employer pilots occurring now – and you’ll hear directly from them. Join us to hear the innovative models that employers are using to strengthen their workforce pipeline. \nPlease register here.
URL:https://biz.loudoun.gov/event/tax-credits-for-untapped-talent/
CATEGORIES:Workforce Development,For Businesses
END:VEVENT
BEGIN:VEVENT
DTSTART;TZID=America/New_York:20250318T100000
DTEND;TZID=America/New_York:20250318T130000
DTSTAMP:20260425T193424
CREATED:20250227T165809Z
LAST-MODIFIED:20250227T165909Z
UID:29509-1742292000-1742302800@biz.loudoun.gov
SUMMARY:Loudoun Job Fair: Public Sector Opportunities
DESCRIPTION:The Loudoun Workforce Resource Center will host a Loudoun Job Fair on Tuesday\, March 18\, 2025\, 10:00 a.m. – 1:00 p.m.\, at the Dulles South Recreation and Community Center\, 24950 Riding Center Drive in South Riding. \nThe job fair will primarily focus on the public sector\, featuring more than 15 state and local government employers with opportunities in administration\, aviation\, education\, engineering\, fire and rescue\, health care\, law enforcement\, transportation\, and other fields. \nThe Loudoun County government\, which was recently designated by Forbes magazine as one of the Best Large Employers in 2025\, will be among the employers represented at the fair. \nJob seekers are encouraged to prepare for the fair: \n\nAttend a virtual preparatory workshop:\n\n“Ready\, Set\, Go to the Job Fair.”\nRegister at wrccareers.eventbrite.com.\n\n\nGet a free copy of “Turn a Job Fair Into a Job Offer:”\n\nCall 703-777-0150 or email wrc@loudoun.gov and provide a mailing address.\n\n\nDress professionally and bring multiple resume copies.\n\nThe event is free however registration is strongly recommended. \nThose planning to attend can pre-register at loudoun.gov/JobFair to receive reminders and updates. In case of inclement weather\, the event will be held Tuesday\, March 25\, 2025\, 10:00 a.m. – 1:00 p.m.\, at the same location. \nAnyone who requires an accommodation for any disability in order to participate\, including language assistance\, should contact the Loudoun Workforce Resource Center at 703-777-0150. Three business days’ notice is requested. \nFor more information\, contact the Workforce Resource Center at 703-777-0150 or visit loudoun.gov/wrc. \nTue\, Mar 18\, 2025\, 10:00 AM – 1:00 PM (your local time) \n24950 Riding Center Dr\, South Riding\, Virginia\, US\, 20152 \nDulles South Recreation and Community Center \nEvent link https://loudoun.gov/JobFair
URL:https://biz.loudoun.gov/event/loudoun-job-fair-public-sector-opportunities/
LOCATION:Dulles South Recreation and Community Center\, 24950 Riding Center\, South Riding\, VA\, 20152
CATEGORIES:Workforce Development,For Employees/Jobseekers,For Businesses,Networking
ATTACH;FMTTYPE=image/png:https://biz.loudoun.gov/wp-content/uploads/2025/02/Loudoun-Job-Fair-Mar-18-2025.png
END:VEVENT
END:VCALENDAR