BEGIN:VCALENDAR
VERSION:2.0
PRODID:-//Loudoun County Economic Development, VA - ECPv6.11.2.1//NONSGML v1.0//EN
CALSCALE:GREGORIAN
METHOD:PUBLISH
X-WR-CALNAME:Loudoun County Economic Development, VA
X-ORIGINAL-URL:https://biz.loudoun.gov
X-WR-CALDESC:Events for Loudoun County Economic Development, VA
REFRESH-INTERVAL;VALUE=DURATION:PT1H
X-Robots-Tag:noindex
X-PUBLISHED-TTL:PT1H
BEGIN:VTIMEZONE
TZID:America/New_York
BEGIN:DAYLIGHT
TZOFFSETFROM:-0500
TZOFFSETTO:-0400
TZNAME:EDT
DTSTART:20230312T070000
END:DAYLIGHT
BEGIN:STANDARD
TZOFFSETFROM:-0400
TZOFFSETTO:-0500
TZNAME:EST
DTSTART:20231105T060000
END:STANDARD
END:VTIMEZONE
BEGIN:VEVENT
DTSTART;TZID=America/New_York:20230423T080000
DTEND;TZID=America/New_York:20230426T170000
DTSTAMP:20260421T001140
CREATED:20230403T180611Z
LAST-MODIFIED:20230403T180611Z
UID:23594-1682236800-1682528400@biz.loudoun.gov
SUMMARY:HR Virginia 2023 Annual Conference
DESCRIPTION:This in-person conference is an opportunity for our community to celebrate our contributions and become inspired by and participate in where we are going. Embrace future possibilities for improving ourselves and building relationships\, in the world of work. \nIf the last few years have taught us anything\, it’s that we need to Recharge\, Refresh and Re-engage.  Recharge as human resource professionals\, focusing on our mental and physical health as well as those we support. HR professionals need to Refresh to stay relevant in the ever-changing working environment and be more creative to recruit and keep the talent that drives organizational business goals. HR must Re-engage to steward a culture of respect and equity at all levels while delivering the business strategy\, driving workforce performance and engagement\, and enhancing the experience for everyone. This conference is sure to provide you with the tools to do just that.en
URL:https://biz.loudoun.gov/event/hr-virginia-2023-annual-conference/
LOCATION:Greater Richmond Convention Center\, 403 N 3rd St\, Richmond\, Virginia\, 23219
CATEGORIES:Workforce Development,For Employees/Jobseekers,For Businesses
END:VEVENT
END:VCALENDAR