BEGIN:VCALENDAR
VERSION:2.0
PRODID:-//Loudoun County Economic Development, VA - ECPv6.11.2.1//NONSGML v1.0//EN
CALSCALE:GREGORIAN
METHOD:PUBLISH
X-WR-CALNAME:Loudoun County Economic Development, VA
X-ORIGINAL-URL:https://biz.loudoun.gov
X-WR-CALDESC:Events for Loudoun County Economic Development, VA
REFRESH-INTERVAL;VALUE=DURATION:PT1H
X-Robots-Tag:noindex
X-PUBLISHED-TTL:PT1H
BEGIN:VTIMEZONE
TZID:America/New_York
BEGIN:DAYLIGHT
TZOFFSETFROM:-0500
TZOFFSETTO:-0400
TZNAME:EDT
DTSTART:20230312T070000
END:DAYLIGHT
BEGIN:STANDARD
TZOFFSETFROM:-0400
TZOFFSETTO:-0500
TZNAME:EST
DTSTART:20231105T060000
END:STANDARD
END:VTIMEZONE
BEGIN:VEVENT
DTSTART;TZID=America/New_York:20230420T130000
DTEND;TZID=America/New_York:20230420T140000
DTSTAMP:20260420T205233
CREATED:20230407T144146Z
LAST-MODIFIED:20230407T144146Z
UID:23617-1681995600-1681999200@biz.loudoun.gov
SUMMARY:Engage Businesses Through Registered Apprenticeships: Yes\, WIOA Can!
DESCRIPTION:This webinar serves as Technical Assistance (TA) for national workforce entities to understand how to engage businesses through Registered Apprenticeships (RA) with a particular focus on businesses who employ and advance women and other marginalized groups. \n\nDESCRIPTION\n\nThrough the Department of Labor’s (DOL’s) Next Level Now (NLN) Collaborative\, this webinar will deliver and provide information on how Registered Apprenticeship (RA) practices can effectively engage businesses\, increase retention of employees\, and provide career advancement for workers\, with a focus on marginalized populations. Also\, there will be a brief discussion on co-enrollment between RA and Workforce Innovation and Opportunity Act (WIOA) programs. \nLearning pieces include: \n\nInformation on Center of Excellence on Registered Apprenticeships\nExamples from Workforce Entities and/or Employers on Registered Apprenticeship Models that Further DEIA Strategies\nUnderstanding How Co-Enrollment is an Advantage for Both RA and WIOAe
URL:https://biz.loudoun.gov/event/engage-businesses-through-registered-apprenticeships-yes-wioa-can/
LOCATION:MD
CATEGORIES:Workforce Development,Webinars,For Businesses
END:VEVENT
BEGIN:VEVENT
DTSTART;TZID=America/New_York:20230420T140000
DTEND;TZID=America/New_York:20230420T190000
DTSTAMP:20260420T205233
CREATED:20230306T160923Z
LAST-MODIFIED:20230306T162510Z
UID:23289-1681999200-1682017200@biz.loudoun.gov
SUMMARY:The Dulles Airport Job & Career Fair
DESCRIPTION:Come meet the diverse group of employers located at Dulles Airport. Exciting career opportunities exist across the spectrum of airport operations and the aviation industry. \nParking is available. We encourage use of the Silver Line to the Airport station. \nAttending Employers:\nABM-Aviation\nCLEAR\nConcessions International\nCrews IAD\nDnata USA\nDuty Free America’s\nEnterprise Holdings\nHMS Host\nHudson Group\nMaximus Global Services\nMetropolitan Washington Airports Authority (MWAA)\nMWAA Fire & Rescue\nMWAA Police Department\nParadies Lagardere Dining Divison\nRestaurant Associates\nSCIS Air Security\nStellar Partners\, Inc.\nSodexo Live\nUnifi\nWashington Dulles Airport Marriott \n 
URL:https://biz.loudoun.gov/event/the-dulles-airport-job-career-fair-2/
LOCATION:Dulles Airport\, 1 Saarinen Circle\, Dulles\, 20166
CATEGORIES:Workforce Development,For Employees/Jobseekers
ATTACH;FMTTYPE=image/jpeg:https://biz.loudoun.gov/wp-content/uploads/2023/03/8-10-22-jobfairflyerwebsitepic3.jpg
END:VEVENT
END:VCALENDAR