BEGIN:VCALENDAR
VERSION:2.0
PRODID:-//Loudoun County Economic Development, VA - ECPv6.11.2.1//NONSGML v1.0//EN
CALSCALE:GREGORIAN
METHOD:PUBLISH
X-ORIGINAL-URL:https://biz.loudoun.gov
X-WR-CALDESC:Events for Loudoun County Economic Development, VA
REFRESH-INTERVAL;VALUE=DURATION:PT1H
X-Robots-Tag:noindex
X-PUBLISHED-TTL:PT1H
BEGIN:VTIMEZONE
TZID:America/New_York
BEGIN:DAYLIGHT
TZOFFSETFROM:-0500
TZOFFSETTO:-0400
TZNAME:EDT
DTSTART:20230312T070000
END:DAYLIGHT
BEGIN:STANDARD
TZOFFSETFROM:-0400
TZOFFSETTO:-0500
TZNAME:EST
DTSTART:20231105T060000
END:STANDARD
END:VTIMEZONE
BEGIN:VEVENT
DTSTART;TZID=America/New_York:20230326T110000
DTEND;TZID=America/New_York:20230326T140000
DTSTAMP:20260420T014603
CREATED:20230301T195303Z
LAST-MODIFIED:20230301T195303Z
UID:23211-1679828400-1679839200@biz.loudoun.gov
SUMMARY:Employers Invited to Participate in Leesburg Career Expo 2023
DESCRIPTION:The Youth Career Expo-High School and College Edition will be held at Tuscarora High School on Sunday\, March 26\, 2023. \nThe Town of Leesburg’s Department of Economic Development will host a Career Expo for students and recent graduates on Sunday\, March 26\, 2023. The event will take place at Tuscarora High School\, 801 N King Street\, in Leesburg\, from 11 a.m. to 2 p.m. \nLocal businesses are invited to participate by submitting a request form at www.leesburgva.gov/careerexpo. There is no cost to participate. Please note that submitting a request to participate is not a guarantee of acceptance. Priority for participation will be given to businesses located within Leesburg Town limits and business sectors that offer diverse employment opportunities. Notification of acceptance will be sent no later than Friday\, March 10. \nThe expo is a great opportunity to hire local students and recent graduates to fill part-time\, full-time\, seasonal and intern positions. \nFor more information about the expo\, please contact Business Development and Retention Manager Melanie Scoggins at mscoggins@leesburgva.gov or 571-271-1206.
URL:https://biz.loudoun.gov/event/employers-invited-to-participate-in-leesburg-career-expo-2023/
LOCATION:Tuscarora High School\, 801 N King Street\, Leesburg\, VA\, 20176
CATEGORIES:Workforce Development,For Businesses
ATTACH;FMTTYPE=image/png:https://biz.loudoun.gov/wp-content/uploads/2023/03/638120551800530000.png
END:VEVENT
BEGIN:VEVENT
DTSTART;TZID=America/New_York:20230326T110000
DTEND;TZID=America/New_York:20230326T140000
DTSTAMP:20260420T014603
CREATED:20230321T145203Z
LAST-MODIFIED:20230321T145203Z
UID:23458-1679828400-1679839200@biz.loudoun.gov
SUMMARY:Employer Participation Request for Youth Career Expo- 2023 Career Expo
DESCRIPTION:Priority for participation will be given to businesses located within Leesburg Town limits and business sectors that offer diverse employment opportunities. The Expo will take place  March 26\, 2023 from 11:00 AM – 2:00 PM at  Tuscarora High School located at 801 N King Street\, Leesburg\, VA 20176. Please contact Melanie Scoggins at mscoggins@leesburgva.gov for more information.
URL:https://biz.loudoun.gov/event/employer-participation-request-for-youth-career-expo-2023-career-expo/
LOCATION:Tuscarora High School\, 801 N King Street\, Leesburg\, VA\, 20176
CATEGORIES:Workforce Development,For Businesses
ATTACH;FMTTYPE=image/png:https://biz.loudoun.gov/wp-content/uploads/2023/03/Attendee-QR-3-002.png
END:VEVENT
END:VCALENDAR