BEGIN:VCALENDAR
VERSION:2.0
PRODID:-//Loudoun County Economic Development, VA - ECPv6.11.2.1//NONSGML v1.0//EN
CALSCALE:GREGORIAN
METHOD:PUBLISH
X-WR-CALNAME:Loudoun County Economic Development, VA
X-ORIGINAL-URL:https://biz.loudoun.gov
X-WR-CALDESC:Events for Loudoun County Economic Development, VA
REFRESH-INTERVAL;VALUE=DURATION:PT1H
X-Robots-Tag:noindex
X-PUBLISHED-TTL:PT1H
BEGIN:VTIMEZONE
TZID:America/New_York
BEGIN:DAYLIGHT
TZOFFSETFROM:-0500
TZOFFSETTO:-0400
TZNAME:EDT
DTSTART:20230312T070000
END:DAYLIGHT
BEGIN:STANDARD
TZOFFSETFROM:-0400
TZOFFSETTO:-0500
TZNAME:EST
DTSTART:20231105T060000
END:STANDARD
END:VTIMEZONE
BEGIN:VEVENT
DTSTART;TZID=America/New_York:20230325T080000
DTEND;TZID=America/New_York:20230325T130000
DTSTAMP:20260419T234854
CREATED:20230322T204655Z
LAST-MODIFIED:20230322T204655Z
UID:23469-1679731200-1679749200@biz.loudoun.gov
SUMMARY:International Data Center Day 2023 Cloud Run
DESCRIPTION:In honor of International Data Center Day\, an anticipated three hundred fifty runners and walkers will be coming together to participate in the inaugural 2023 Cloud Run on Saturday\, March 25 from 8 a.m. to 1 p.m. in Sterling! \nThe 7×24 Exchange DC Chapter will be hosting this event and invites schools\, businesses\, and residents of all ages to join the data center industry for a day of fun\, excitement\, and discovery of the IT backbone of the cloud. Participants can start the day with a 1-mile Fun Run and 4.99999k run/walk around Data Center Alley or jump right into the Data Center Discovery Zone hosted by the Data Center Coalition.
URL:https://biz.loudoun.gov/event/international-data-center-day-2023-cloud-run/
LOCATION:MD
CATEGORIES:Small Biz,Workforce Development,For Employees/Jobseekers,For Businesses
ATTACH;FMTTYPE=image/png:https://biz.loudoun.gov/wp-content/uploads/2023/03/Cloud-Run-2023-Map.png
END:VEVENT
BEGIN:VEVENT
DTSTART;TZID=America/New_York:20230325T080000
DTEND;TZID=America/New_York:20230325T130000
DTSTAMP:20260419T234854
CREATED:20230322T205616Z
LAST-MODIFIED:20230322T205616Z
UID:23472-1679731200-1679749200@biz.loudoun.gov
SUMMARY:Data Center Discovery Zone
DESCRIPTION:Join members of the data center industry for a day of fun and learn about career opportunities in the data center industry. \nParticipants of all ages and academic levels will have the chance to engage with data center leaders and academic partners to discover what interests and aptitudes make great data center employees\, and learn about scholarships\, internships and many other pathways to opportunities in data centers.
URL:https://biz.loudoun.gov/event/data-center-discovery-zone/
LOCATION:MD
CATEGORIES:Small Biz,Workforce Development,For Employees/Jobseekers,For Businesses
ATTACH;FMTTYPE=image/jpeg:https://biz.loudoun.gov/wp-content/uploads/2023/03/Data-Center-Discovery-Zone-flyer-for-students-scaled.jpg
END:VEVENT
END:VCALENDAR