BEGIN:VCALENDAR
VERSION:2.0
PRODID:-//Loudoun County Economic Development, VA - ECPv6.11.2.1//NONSGML v1.0//EN
CALSCALE:GREGORIAN
METHOD:PUBLISH
X-WR-CALNAME:Loudoun County Economic Development, VA
X-ORIGINAL-URL:https://biz.loudoun.gov
X-WR-CALDESC:Events for Loudoun County Economic Development, VA
REFRESH-INTERVAL;VALUE=DURATION:PT1H
X-Robots-Tag:noindex
X-PUBLISHED-TTL:PT1H
BEGIN:VTIMEZONE
TZID:America/New_York
BEGIN:DAYLIGHT
TZOFFSETFROM:-0500
TZOFFSETTO:-0400
TZNAME:EDT
DTSTART:20230312T070000
END:DAYLIGHT
BEGIN:STANDARD
TZOFFSETFROM:-0400
TZOFFSETTO:-0500
TZNAME:EST
DTSTART:20231105T060000
END:STANDARD
END:VTIMEZONE
BEGIN:VEVENT
DTSTART;TZID=America/New_York:20230321T173000
DTEND;TZID=America/New_York:20230321T190000
DTSTAMP:20260419T234900
CREATED:20230314T164925Z
LAST-MODIFIED:20230314T164925Z
UID:23372-1679419800-1679425200@biz.loudoun.gov
SUMMARY:Reinventing the Employee Handbook for the Modern Workplace (Virtual)
DESCRIPTION:This is not your average handbook update! Discover what’s new in the world of employee handbooks. Today’s workplace has evolved\, and your employee handbook should too. In this interactive and lively discussion\, Melissa Hajjar\, HR Management Consultant with Helios HR\, will share what trends she sees in the market\, their advice among clients\, and the latest must-haves in employee handbooks.
URL:https://biz.loudoun.gov/event/reinventing-the-employee-handbook-for-the-modern-workplace-virtual/
LOCATION:MD
CATEGORIES:Workforce Development,Webinars,For Businesses
ATTACH;FMTTYPE=image/png:https://biz.loudoun.gov/wp-content/uploads/2022/02/25th_anniversary-1.png
END:VEVENT
END:VCALENDAR