BEGIN:VCALENDAR
VERSION:2.0
PRODID:-//Loudoun County Economic Development, VA - ECPv6.11.2.1//NONSGML v1.0//EN
CALSCALE:GREGORIAN
METHOD:PUBLISH
X-ORIGINAL-URL:https://biz.loudoun.gov
X-WR-CALDESC:Events for Loudoun County Economic Development, VA
REFRESH-INTERVAL;VALUE=DURATION:PT1H
X-Robots-Tag:noindex
X-PUBLISHED-TTL:PT1H
BEGIN:VTIMEZONE
TZID:America/New_York
BEGIN:DAYLIGHT
TZOFFSETFROM:-0500
TZOFFSETTO:-0400
TZNAME:EDT
DTSTART:20230312T070000
END:DAYLIGHT
BEGIN:STANDARD
TZOFFSETFROM:-0400
TZOFFSETTO:-0500
TZNAME:EST
DTSTART:20231105T060000
END:STANDARD
END:VTIMEZONE
BEGIN:VEVENT
DTSTART;TZID=America/New_York:20230317T100000
DTEND;TZID=America/New_York:20230317T120000
DTSTAMP:20260419T221313
CREATED:20230310T181332Z
LAST-MODIFIED:20230310T181332Z
UID:23351-1679047200-1679054400@biz.loudoun.gov
SUMMARY:Supported Decision-Making: Training for Individuals\, Families and Professional
DESCRIPTION:Are you an individual with a developmental disability (age 17 or older) or do you know someone with a developmental disability who might be interested in learning more about Supported Decision-Making Agreements? If so\, please see the information below! \nWho should attend? \nPeople with developmental disabilities\, their family members and professionals who are interested in learning more about: \nSupported decision-making and supported decision-making agreements\nRoles and responsibilities of the people who have Supported Decision-Making Agreements or are Supporters\nDiscovery Tools to help you create your supported decision-making agreement\nVirginia’s Supported Decision-Making Agreement template\nHow to create your own agreement\nThere will be a morning and an afternoon session. Each session will consist of a presentation and discussion about support decision-making. Following each session\, there will be an opportunity to ask questions and review documents that could be used to create your own supported decision-making agreement. \nAfternoon session register here: https://bit.ly/sdm-session-2 Starts at 1:30 pm
URL:https://biz.loudoun.gov/event/supported-decision-making-training-for-individuals-families-and-professional/
LOCATION:MD
CATEGORIES:Workforce Development,For Employees/Jobseekers
END:VEVENT
END:VCALENDAR