BEGIN:VCALENDAR
VERSION:2.0
PRODID:-//Loudoun County Economic Development, VA - ECPv6.11.2.1//NONSGML v1.0//EN
CALSCALE:GREGORIAN
METHOD:PUBLISH
X-WR-CALNAME:Loudoun County Economic Development, VA
X-ORIGINAL-URL:https://biz.loudoun.gov
X-WR-CALDESC:Events for Loudoun County Economic Development, VA
REFRESH-INTERVAL;VALUE=DURATION:PT1H
X-Robots-Tag:noindex
X-PUBLISHED-TTL:PT1H
BEGIN:VTIMEZONE
TZID:America/New_York
BEGIN:DAYLIGHT
TZOFFSETFROM:-0500
TZOFFSETTO:-0400
TZNAME:EDT
DTSTART:20230312T070000
END:DAYLIGHT
BEGIN:STANDARD
TZOFFSETFROM:-0400
TZOFFSETTO:-0500
TZNAME:EST
DTSTART:20231105T060000
END:STANDARD
END:VTIMEZONE
BEGIN:VEVENT
DTSTART;TZID=America/New_York:20230315T090000
DTEND;TZID=America/New_York:20230315T110000
DTSTAMP:20260419T221048
CREATED:20230310T154542Z
LAST-MODIFIED:20230310T154542Z
UID:23347-1678870800-1678878000@biz.loudoun.gov
SUMMARY:Virtual Hiring Fair: Europe OCONUS
DESCRIPTION:Attend a Virtual Hiring Fair specially designed to assist transitioning service members and their families with finding job opportunities as they return from OCONUS in the Europe and Middle East regions to stateside. This event will feature 15+ employers hiring in multiple industries\, including Cummins\, First Command\, General Dynamics\, Leidos\, Lowe’s\, Power Home Remodeling\, Verizon\, and Wells Fargo. \nEmployers Register Here: Personal Information – Virtual Hiring Fair: Europe OCONUS (hiringourheroes.org) \nJobseekers Register Here: Event Registration – Hiring Our Heroes
URL:https://biz.loudoun.gov/event/virtual-hiring-fair-europe-oconus/
LOCATION:MD
CATEGORIES:Workforce Development,Webinars,For Employees/Jobseekers,For Businesses
ATTACH;FMTTYPE=image/png:https://biz.loudoun.gov/wp-content/uploads/2021/10/Screen-Shot-2019-01-24-at-1.05.06-PM-222csp9.png
END:VEVENT
BEGIN:VEVENT
DTSTART;TZID=America/New_York:20230315T120000
DTEND;TZID=America/New_York:20230315T130000
DTSTAMP:20260419T221048
CREATED:20230309T210434Z
LAST-MODIFIED:20230309T210434Z
UID:23336-1678881600-1678885200@biz.loudoun.gov
SUMMARY:Five Ways to Create a Great Organizational Culture and Become a Company Hero (Webinar)
DESCRIPTION:Summary: The Great Resignation combined with hiring challenges have left employers scratching their heads in attempts to attract and retain culturally compatible and competent employees. With generational wish lists driving the hiring decisions\, ensuring the organization has a great culture is paramount. Leading cultural change involves 5 concepts that can be implemented immediately and will have lasting positive effects. \nLearning objectives: \nTo understand what creates and drives organizational culture and how to tweak it \nTo understand how to lead systemic change throughout the organization \nTo obtain practical strategies that can be immediately applied within your organization
URL:https://biz.loudoun.gov/event/five-ways-to-create-a-great-organizational-culture-and-become-a-company-hero-webinar/
LOCATION:MD
CATEGORIES:Workforce Development,Webinars,For Businesses
ATTACH;FMTTYPE=image/jpeg:https://biz.loudoun.gov/wp-content/uploads/2022/03/1500x500-1.jpeg
END:VEVENT
BEGIN:VEVENT
DTSTART;TZID=America/New_York:20230315T190000
DTEND;TZID=America/New_York:20230315T203000
DTSTAMP:20260419T221048
CREATED:20230223T193604Z
LAST-MODIFIED:20230223T193604Z
UID:23117-1678906800-1678912200@biz.loudoun.gov
SUMMARY:Marketing Part 1: Developing Your Marketing Plan
DESCRIPTION:Many entrepreneurs create products or services they can’t sell no matter how hard they work. It doesn’t have to be this way. This webinar will help you build a roadmap you can use to identify your ideal clients and discover a value proposition that will set you above your competition. We’ll also explain how to conduct a competitor analysis. Plus\, we will review different pricing strategies and show the impact of pricing on profits. \nThis webinar sets the stage for the next webinar in the Small Business Essentials series\, Marketing Part 2: Promoting Your Business. \nAll registrants will receive access to webinar materials in advance\, and link to the recorded webinar after the live event. \nThis webinar is part of SCORE’s Small Business Essentials (SBE) Webinar Series. The series is designed to prepare anyone who is considering starting a business to make the decisions and plans you need to successfully launch your business. All webinars are taught by experienced certified SCORE Mentors. \nRegistration Fee: $25
URL:https://biz.loudoun.gov/event/marketing-part-1-developing-your-marketing-plan-14/
LOCATION:MD
CATEGORIES:Small Biz,Business Planning,Webinars
ATTACH;FMTTYPE=image/jpeg:https://biz.loudoun.gov/wp-content/uploads/2022/02/269728580_4843025259086959_2978874327861070685_n.jpg
END:VEVENT
END:VCALENDAR