BEGIN:VCALENDAR
VERSION:2.0
PRODID:-//Loudoun County Economic Development, VA - ECPv6.11.2.1//NONSGML v1.0//EN
CALSCALE:GREGORIAN
METHOD:PUBLISH
X-WR-CALNAME:Loudoun County Economic Development, VA
X-ORIGINAL-URL:https://biz.loudoun.gov
X-WR-CALDESC:Events for Loudoun County Economic Development, VA
REFRESH-INTERVAL;VALUE=DURATION:PT1H
X-Robots-Tag:noindex
X-PUBLISHED-TTL:PT1H
BEGIN:VTIMEZONE
TZID:America/New_York
BEGIN:DAYLIGHT
TZOFFSETFROM:-0500
TZOFFSETTO:-0400
TZNAME:EDT
DTSTART:20230312T070000
END:DAYLIGHT
BEGIN:STANDARD
TZOFFSETFROM:-0400
TZOFFSETTO:-0500
TZNAME:EST
DTSTART:20231105T060000
END:STANDARD
END:VTIMEZONE
BEGIN:VEVENT
DTSTART;TZID=America/New_York:20230314T100000
DTEND;TZID=America/New_York:20230314T110000
DTSTAMP:20260419T221100
CREATED:20230227T161141Z
LAST-MODIFIED:20230227T161141Z
UID:23148-1678788000-1678791600@biz.loudoun.gov
SUMMARY:Reduce Technical Debt With Infrastructure Lifecycle Management (Webinar)
DESCRIPTION:Digital business\, in the public and private sectors alike\, demands resilient\, adaptable infrastructure that can support and react to evolving needs. However\, uncontrolled technical debt from out-of-date systems prevents infrastructure and operations leaders from meeting this requirement. One-off modernization projects can provide temporary relief\, but they prove unsustainable. I&O leaders should strengthen portfolio management by adopting practices that keep their infrastructures agile and current. This complimentary webinar explores how IT leaders\, particularly in the public sector\, can implement effective infrastructure life cycle management that makes it easier to assess\, modernize\, and govern obsolescence and technical debt. \n\nAssess and communicate the business impacts of infrastructure technical debt\nDesign and implement an effective infrastructure lifecycle management program\nObtain financial\, technical\, and other business stakeholder consensus to minimize resistance\n\nReturn to this web page to watch the webinar. Contact us at gartnerwebinars@gartner.com with questions about viewing this webinar.
URL:https://biz.loudoun.gov/event/reduce-technical-debt-with-infrastructure-lifecycle-management-webinar/
LOCATION:MD
CATEGORIES:Technology,Workforce Development,Webinars,For Businesses
ATTACH;FMTTYPE=image/jpeg:https://biz.loudoun.gov/wp-content/uploads/2023/02/Gartner.jpg
END:VEVENT
BEGIN:VEVENT
DTSTART;TZID=America/New_York:20230314T150000
DTEND;TZID=America/New_York:20230314T160000
DTSTAMP:20260419T221100
CREATED:20230310T162104Z
LAST-MODIFIED:20230310T162104Z
UID:23349-1678806000-1678809600@biz.loudoun.gov
SUMMARY:Military Spouse Professional Network Monthly Series: Learning and Development Trends in the Workplace
DESCRIPTION:Join Hiring Our Heroes Military Spouse Professional Network to discuss learning and development trends in the workplace. \nThis webinar is part of Hiring Our Heroes’ virtual education and training curriculum. Offered in collaboration with innovative partners\, these training sessions allow our nation’s military community to engage in world-class career curriculum from anywhere. \nLooking for a past webinar session? The Digital Resources Library offers virtual training\, networking\, and workshop opportunities. \nTo see and register for upcoming live training sessions\, workshops\, and hiring events\, visit our event calendar.
URL:https://biz.loudoun.gov/event/military-spouse-professional-network-monthly-series-learning-and-development-trends-in-the-workplace/
LOCATION:MD
CATEGORIES:Workforce Development,Webinars,For Employees/Jobseekers
ATTACH;FMTTYPE=image/png:https://biz.loudoun.gov/wp-content/uploads/2021/10/Screen-Shot-2019-01-24-at-1.05.06-PM-222csp9.png
END:VEVENT
END:VCALENDAR