BEGIN:VCALENDAR
VERSION:2.0
PRODID:-//Loudoun County Economic Development, VA - ECPv6.11.2.1//NONSGML v1.0//EN
CALSCALE:GREGORIAN
METHOD:PUBLISH
X-ORIGINAL-URL:https://biz.loudoun.gov
X-WR-CALDESC:Events for Loudoun County Economic Development, VA
REFRESH-INTERVAL;VALUE=DURATION:PT1H
X-Robots-Tag:noindex
X-PUBLISHED-TTL:PT1H
BEGIN:VTIMEZONE
TZID:America/New_York
BEGIN:DAYLIGHT
TZOFFSETFROM:-0500
TZOFFSETTO:-0400
TZNAME:EDT
DTSTART:20230312T070000
END:DAYLIGHT
BEGIN:STANDARD
TZOFFSETFROM:-0400
TZOFFSETTO:-0500
TZNAME:EST
DTSTART:20231105T060000
END:STANDARD
END:VTIMEZONE
BEGIN:VEVENT
DTSTART;TZID=America/New_York:20230308T090000
DTEND;TZID=America/New_York:20230308T100000
DTSTAMP:20260419T202207
CREATED:20210708T141526Z
LAST-MODIFIED:20231101T191800Z
UID:18046-1678266000-1678269600@biz.loudoun.gov
SUMMARY:1 Million Cups
DESCRIPTION:Join us in person at Venture X\, Ashburn on November 8th at 9:00am for 1 Mil Cups. >>USE THIS LINK TO REGISTER<< \nThis week you will hear from Alana Wang LAc\, DiplAc\, Owner of Fortress Acupuncture LLC. Alana is a National Board Certified and Licensed Acupuncturist in VA. She entered field of acupuncture while looking for natural ways to help people with their health problems. Alana uses an individualized approach with each patient and takes time to understand the nature of their ailment. She values the choices patients make in their daily lives and believes in the connection between healthy eating\, exercise\, and emotional well-being. Optimal health can be achieved by building a bridge between Eastern and Western Medicine and Alana’s treatments focus on both without undermining power of either. \n## Why Fortress Acupuncture? \nOur bodies are our fortresses with unique defense mechanisms that sometimes just need a little fine tuning. At Fortress Acupuncture\, with the use of acupuncture needles and cupping we help to strengthen your foundation and maintain balance to be able to withstand any attack life throws at you. Come and discover the power of acupuncture and cupping in your life! \nTo learn more about Fortress Acupuncture\, visit Fortress Acupuncture: Acupuncture and Cupping Services in Aldie\, VA \nVenture X Address: 44679 Endicott Dr\, Ashburn\, VA 20147 \nParking is on the third floor and the entry door leads you right into the meeting space. Plenty of free parking available AND we have 1 Million Cups Swag!! \n— \n1 Million Cups (1MC) is a national\, licensed entrepreneur support program that provides connections\, new knowledge and a forum to problem-solve. Every second  Wed. morning of the month at 9:00 AM entrepreneurs have an opportunity to present their business concept\, startup or re-invented company to a diverse audience of mentors\, advisors\, and entrepreneurs. Learn more about 1 Million Cups (https://www.1millioncups.com/). Presenters give an 8 to 10 minute pitch with 20 minutes Q&A. As a community\, the participants provide supportive feedback and ask\, “How can we help you solve your challenges?” \nCome join our caffeinated community–meet others\, get connected and gain the help you need as you grow your business. Let this group become your regular stop on Wed. mornings and be a part of helping grow Loudoun’s entrepreneur ecosystem!\nInteresting in presenting? Go to https://www.1millioncups.com/loudoun ; to apply.
URL:https://biz.loudoun.gov/event/1-million-cups-18/2023-03-08/
LOCATION:Venture X\, 44679 Endicott Dr Suite 300\, Ashburn\, VA\, 20147
CATEGORIES:Small Biz,For Businesses
ATTACH;FMTTYPE=image/jpeg:https://biz.loudoun.gov/wp-content/uploads/2021/04/1million-1.jpeg
END:VEVENT
END:VCALENDAR