BEGIN:VCALENDAR
VERSION:2.0
PRODID:-//Loudoun County Economic Development, VA - ECPv6.11.2.1//NONSGML v1.0//EN
CALSCALE:GREGORIAN
METHOD:PUBLISH
X-ORIGINAL-URL:https://biz.loudoun.gov
X-WR-CALDESC:Events for Loudoun County Economic Development, VA
REFRESH-INTERVAL;VALUE=DURATION:PT1H
X-Robots-Tag:noindex
X-PUBLISHED-TTL:PT1H
BEGIN:VTIMEZONE
TZID:America/New_York
BEGIN:DAYLIGHT
TZOFFSETFROM:-0500
TZOFFSETTO:-0400
TZNAME:EDT
DTSTART:20230312T070000
END:DAYLIGHT
BEGIN:STANDARD
TZOFFSETFROM:-0400
TZOFFSETTO:-0500
TZNAME:EST
DTSTART:20231105T060000
END:STANDARD
END:VTIMEZONE
BEGIN:VEVENT
DTSTART;TZID=America/New_York:20230307T100000
DTEND;TZID=America/New_York:20230307T110000
DTSTAMP:20260419T203323
CREATED:20230227T144929Z
LAST-MODIFIED:20230227T144929Z
UID:23136-1678183200-1678186800@biz.loudoun.gov
SUMMARY:Treat Cybersecurity as a Business Investment for Better Outcomes (Webinar)
DESCRIPTION:Cybersecurity is a business issue\, not a technical one\, according to 88% of boards of directors surveyed. In fact\, cybersecurity is now the number-one spend item on the technology investment list. To thrive in the new environment\, cybersecurity must be treated as a business decision. Organizations must stop investing in security tools and start investing in outcomes. Treating cybersecurity as a business decision requires aligning protection levels with desired business outcomes to drive business-led cybersecurity investment. CIOs and senior IT executives must be able to communicate the risks\, value and cost of cybersecurity to their board of directors. In this complimentary cybersecurity webinar\, Gartner experts look at the 16-cybersecurity value and outcome-driven metrics. We explore how you can use these to work with your board to design a cybersecurity investment strategy that drives business outcomes. \n\nDiscover how to treat cybersecurity as a business decision\nUnderstand how to communicate outcome-driven metrics to your board of directors\nAssess protection needed\, willingness to spend\, and how these outcomes drive key success metrics for the organization\n\nReturn to this web page to watch the webinar. Contact us at gartnerwebinars@gartner.com with questions about viewing this webinar.
URL:https://biz.loudoun.gov/event/treat-cybersecurity-as-a-business-investment-for-better-outcomes-webinar/
LOCATION:MD
CATEGORIES:Workforce Development,Webinars,For Businesses
ATTACH;FMTTYPE=image/jpeg:https://biz.loudoun.gov/wp-content/uploads/2023/02/Gartner.jpg
END:VEVENT
END:VCALENDAR