BEGIN:VCALENDAR
VERSION:2.0
PRODID:-//Loudoun County Economic Development, VA - ECPv6.11.2.1//NONSGML v1.0//EN
CALSCALE:GREGORIAN
METHOD:PUBLISH
X-WR-CALNAME:Loudoun County Economic Development, VA
X-ORIGINAL-URL:https://biz.loudoun.gov
X-WR-CALDESC:Events for Loudoun County Economic Development, VA
REFRESH-INTERVAL;VALUE=DURATION:PT1H
X-Robots-Tag:noindex
X-PUBLISHED-TTL:PT1H
BEGIN:VTIMEZONE
TZID:America/New_York
BEGIN:DAYLIGHT
TZOFFSETFROM:-0500
TZOFFSETTO:-0400
TZNAME:EDT
DTSTART:20230312T070000
END:DAYLIGHT
BEGIN:STANDARD
TZOFFSETFROM:-0400
TZOFFSETTO:-0500
TZNAME:EST
DTSTART:20231105T060000
END:STANDARD
END:VTIMEZONE
BEGIN:VEVENT
DTSTART;TZID=America/New_York:20230301T150000
DTEND;TZID=America/New_York:20230301T160000
DTSTAMP:20260419T182842
CREATED:20230221T153619Z
LAST-MODIFIED:20230221T153619Z
UID:23100-1677682800-1677686400@biz.loudoun.gov
SUMMARY:Military Spouse Fellowship Programs Information Session
DESCRIPTION:Learn about the Hiring Our Heroes Military Spouse Fellowship Program (MSFP) and the Military Spouse Career Accelerator Pilot (MSCAP) program. Please watch our program’s overview video before attending this information session. The video link will be provided in your registration confirmation email.\nPrior to joining the information session\, please watch the Military Spouse Fellowship Program overview here: https://www.hiringourheroes.org/resources/military-spouse-fellowship-program-overview/ \n 
URL:https://biz.loudoun.gov/event/military-spouse-fellowship-programs-information-session/
LOCATION:MD
CATEGORIES:Workforce Development,Webinars,For Employees/Jobseekers
ATTACH;FMTTYPE=image/png:https://biz.loudoun.gov/wp-content/uploads/2021/10/Screen-Shot-2019-01-24-at-1.05.06-PM-222csp9.png
END:VEVENT
END:VCALENDAR