BEGIN:VCALENDAR
VERSION:2.0
PRODID:-//Loudoun County Economic Development, VA - ECPv6.11.2.1//NONSGML v1.0//EN
CALSCALE:GREGORIAN
METHOD:PUBLISH
X-WR-CALNAME:Loudoun County Economic Development, VA
X-ORIGINAL-URL:https://biz.loudoun.gov
X-WR-CALDESC:Events for Loudoun County Economic Development, VA
REFRESH-INTERVAL;VALUE=DURATION:PT1H
X-Robots-Tag:noindex
X-PUBLISHED-TTL:PT1H
BEGIN:VTIMEZONE
TZID:America/New_York
BEGIN:DAYLIGHT
TZOFFSETFROM:-0500
TZOFFSETTO:-0400
TZNAME:EDT
DTSTART:20230312T070000
END:DAYLIGHT
BEGIN:STANDARD
TZOFFSETFROM:-0400
TZOFFSETTO:-0500
TZNAME:EST
DTSTART:20231105T060000
END:STANDARD
END:VTIMEZONE
BEGIN:VEVENT
DTSTART;TZID=America/New_York:20230222T130000
DTEND;TZID=America/New_York:20230222T160000
DTSTAMP:20260419T115033
CREATED:20230217T210440Z
LAST-MODIFIED:20230217T212413Z
UID:23078-1677070800-1677081600@biz.loudoun.gov
SUMMARY:Hiring Our Heroes: Virtual Career Summit
DESCRIPTION:Transitioning service members\, veterans\, military spouses\, and military caregivers are invited to register for this virtual hiring event. Network in real-time with employers across multiple industries\, and access on-demand workshops focused on career preparation
URL:https://biz.loudoun.gov/event/hiring-our-heroes-virtual-career-summit/
LOCATION:MD
CATEGORIES:For Businesses,Workforce Development,Webinars,For Employees/Jobseekers
ATTACH;FMTTYPE=image/png:https://biz.loudoun.gov/wp-content/uploads/2021/10/Screen-Shot-2019-01-24-at-1.05.06-PM-222csp9.png
END:VEVENT
BEGIN:VEVENT
DTSTART;TZID=America/New_York:20230222T160000
DTEND;TZID=America/New_York:20230222T170000
DTSTAMP:20260419T115033
CREATED:20230217T212310Z
LAST-MODIFIED:20230217T212542Z
UID:23080-1677081600-1677085200@biz.loudoun.gov
SUMMARY:Hiring Our Heroes: Tips for Sucess at a Virtual Hiring Event
DESCRIPTION:Are you ready to connect with your next career opportunity? New to virtual hiring events and want to learn more? Before you log in\, learn tips from Hiring Our Heroes to help you prepare for a virtual hiring fair.
URL:https://biz.loudoun.gov/event/hiring-our-heroes-tips-for-sucess-at-a-virtual-hiring-event/
LOCATION:MD
CATEGORIES:Workforce Development,Webinars,For Employees/Jobseekers
ATTACH;FMTTYPE=image/png:https://biz.loudoun.gov/wp-content/uploads/2021/10/Screen-Shot-2019-01-24-at-1.05.06-PM-222csp9.png
END:VEVENT
END:VCALENDAR